BEGIN:VCALENDAR
VERSION:2.0
PRODID:-//Mount Tabor Historical Society - ECPv4.9.14//NONSGML v1.0//EN
CALSCALE:GREGORIAN
METHOD:PUBLISH
X-WR-CALNAME:Mount Tabor Historical Society
X-ORIGINAL-URL:https://mounttabornj.org
X-WR-CALDESC:Events for Mount Tabor Historical Society
BEGIN:VTIMEZONE
TZID:UTC
BEGIN:STANDARD
TZOFFSETFROM:+0000
TZOFFSETTO:+0000
TZNAME:UTC
DTSTART:20170101T000000
END:STANDARD
END:VTIMEZONE
BEGIN:VEVENT
DTSTART;TZID=UTC:20170930T110000
DTEND;TZID=UTC:20170930T160000
DTSTAMP:20260421T033533
CREATED:20170101T074209Z
LAST-MODIFIED:20170922T195301Z
UID:1293-1506769200-1506787200@mounttabornj.org
SUMMARY:24th Annual House Tour
DESCRIPTION:\n\nThe Mount Tabor Historical Society’s annual House Tour will take place on Saturday\, September 30\, 2017. The self-guided tour will be held rain or shine 11am to 4pm.\n \nThe tour of the Mount Tabor Historic District allows visitors to get an inside look at the unique charm of this historic community\, with more than 15 private houses and historic buildings open to the public. Special features include a furnished replica Camp Meeting Tent and the Richardson History House\, a camp meeting cottage museum. Stop by the gift shop\, which is stocked with Mount Tabor souvenirs and vintage items. There will also be lunches and beverages for sale. \n \nThis event is the largest fundraiser for the Mount Tabor Historical Society. The non-profit organization puts all event proceeds back into the community through beautification\, educational\, and restoration projects\, including the restoration of the Richardson History House.\n \nParking will be provided at the Mount Tabor School\, located on Park Road\, Morris Plains\, off Route 53 (GPS: use 864 Park Rd. Morris Plains) where a shuttle bus will be available for transport into the heart of Mount Tabor. Mount Tabor is located in Morris County along Route 53 between Denville and Morris Plains. Visitors who prefer mass transit can take the NJ Transit Morris & Essex line to the Mount Tabor stop. \n \nTickets are $25 per person in advance via online order or mailed check or can be purchased for $30 on the day of the Tour. Order ticket online by clicking on the Annual House Tour TAB at the top of the web page. \nFor more information call 973‑975-0001.\n\n\nTent: House Tour\nTent: House Tour\nHistory House\n\n\n	Related\n
URL:https://mounttabornj.org/event/24th-annual-house-tour/
ATTACH;FMTTYPE=image/jpeg:https://mounttabornj.org/wp-content/uploads/2017/09/17HTMTHS8.5x11-Flyer.jpg
END:VEVENT
END:VCALENDAR