BEGIN:VCALENDAR
VERSION:2.0
PRODID:-//Mount Tabor Historical Society - ECPv4.9.14//NONSGML v1.0//EN
CALSCALE:GREGORIAN
METHOD:PUBLISH
X-WR-CALNAME:Mount Tabor Historical Society
X-ORIGINAL-URL:https://mounttabornj.org
X-WR-CALDESC:Events for Mount Tabor Historical Society
BEGIN:VTIMEZONE
TZID:UTC
BEGIN:STANDARD
TZOFFSETFROM:+0000
TZOFFSETTO:+0000
TZNAME:UTC
DTSTART:20180101T000000
END:STANDARD
END:VTIMEZONE
BEGIN:VEVENT
DTSTART;TZID=UTC:20180929T110000
DTEND;TZID=UTC:20180929T160000
DTSTAMP:20260422T085252
CREATED:20180913T070157Z
LAST-MODIFIED:20180913T070157Z
UID:1562-1538218800-1538236800@mounttabornj.org
SUMMARY:25th Annual Mount Tabor House Tour
DESCRIPTION:25 sites on tour in honor of our 25th Anniversary Year! Only $25 when purchased in advance!\nMount Tabor\, New Jersey\, an historic Camp Meeting community on the National Register of Historic Places\, showcases interiors of 19 cottages\, plus 6 other historic buildings/sites on a self-guided\, walkable tour – your opportunity to look inside these charming gingerbread “dollhouses!”.\nSpecial Features: House Tours\, House Museum\, Camp Meeting Tent\, Vintage Clothing Exhibit provided by the Morris County Historical Society\, an itinerant Preacher\, the Metropolitan Vintage Dance and Social Club will be performing period dances in the Tabernacle\, Gift Shop and luncheon available for purchase. \nTickets available on the Annual House Tour page on the website (see tab above). $25 in advance\, $30 day of tour. \n\n\n	Related\n
URL:https://mounttabornj.org/event/25th-annual-mount-tabor-house-tour/
END:VEVENT
END:VCALENDAR