BEGIN:VCALENDAR
VERSION:2.0
PRODID:-//Mount Tabor Historical Society - ECPv4.9.14//NONSGML v1.0//EN
CALSCALE:GREGORIAN
METHOD:PUBLISH
X-WR-CALNAME:Mount Tabor Historical Society
X-ORIGINAL-URL:https://mounttabornj.org
X-WR-CALDESC:Events for Mount Tabor Historical Society
BEGIN:VTIMEZONE
TZID:UTC
BEGIN:STANDARD
TZOFFSETFROM:+0000
TZOFFSETTO:+0000
TZNAME:UTC
DTSTART:20190101T000000
END:STANDARD
END:VTIMEZONE
BEGIN:VEVENT
DTSTART;TZID=UTC:20190509T190000
DTEND;TZID=UTC:20190509T210000
DTSTAMP:20260420T102944
CREATED:20190208T071329Z
LAST-MODIFIED:20190208T071329Z
UID:1604-1557428400-1557435600@mounttabornj.org
SUMMARY:Author Joe Grabas: "Owning New Jersey"  –  Researching Your House History
DESCRIPTION:Owning New Jersey: Historic Tales of War\, Property Disputes & the Pursuit of Happiness\nJoe Grabas joins us to share his knowledge and expertise in researching land titles and to discuss how to research your own house history. \nJoe Grabas is a nationally certified land title professional who has researched real property records in New Jersey for thirty years. He is the state’s leading land title educator and former president of the New Jersey Land Title Association. He founded the Grabas Institute for Continuing Education to bring historically based research to the title\, legal\, real estate and insurance professions. He serves on the Monmouth County Historical Commission\, the New Jersey Tidelands Resource Council and lectures widely. \nWinner of the New Jersey Studies Academic Alliance Authors Award for Nonfiction \nNew Jersey’s land records and deeds are unlikely sources for a thrilling tale but reveal little-known\, fascinating history. A detailed story of the founding of the Garden State 350 years ago is preserved in these papers. The state’s boundaries were drawn in such documents centuries ago\, even if the authors never stepped foot in North America. The archives hide heroes\, like the freed African Americans who fought for their right to own their piece of the state. And of course\, there are the bizarre and mysterious tales\, like the silk baron’s castle and the assault against a sixteen-year-old maiden during the throes of the American Revolution. Join land title expert Joseph Grabas as he combs through these all-but-forgotten stories of the pursuit of happiness and property in early New Jersey. \n\n\n	Related\n
URL:https://mounttabornj.org/event/author-joe-grabas-owning-new-jersey-researching-your-house-history/
LOCATION:The Bethel\, Trinity Park\, Mount Tabor\, NJ\, 07878\, United States
ATTACH;FMTTYPE=image/jpeg:https://mounttabornj.org/wp-content/uploads/2019/02/61OMrmmdgL.jpg
END:VEVENT
END:VCALENDAR