BEGIN:VCALENDAR
VERSION:2.0
PRODID:-//Mount Tabor Historical Society - ECPv4.9.14//NONSGML v1.0//EN
CALSCALE:GREGORIAN
METHOD:PUBLISH
X-WR-CALNAME:Mount Tabor Historical Society
X-ORIGINAL-URL:https://mounttabornj.org
X-WR-CALDESC:Events for Mount Tabor Historical Society
BEGIN:VTIMEZONE
TZID:UTC
BEGIN:STANDARD
TZOFFSETFROM:+0000
TZOFFSETTO:+0000
TZNAME:UTC
DTSTART:20180101T000000
END:STANDARD
END:VTIMEZONE
BEGIN:VEVENT
DTSTART;TZID=UTC:20180412T190000
DTEND;TZID=UTC:20180412T210000
DTSTAMP:20260420T221943
CREATED:20180313T015641Z
LAST-MODIFIED:20180313T020244Z
UID:1504-1523559600-1523566800@mounttabornj.org
SUMMARY:Edison and the Rise of Innovation
DESCRIPTION:\nThursday April 12\, 2018 at the Bethel in Mt Tabor. \n \n\n\nThomas Edison National Historical Park Archivist Leonard DeGraaf will speak about his book\, Edison and the Rise of Innovation.\n\nThomas Edison (1847-1931) was more than history’s most prolific inventor. He combined scientific knowledge\, well-equipped laboratories\, talented collaborators\, investment capital and a bit of showmanship to change the way we develop new technologies. Edison and the Rise of Innovation chronicles Edison’s life and work\, making lively and lavish use of rarely-seen historic photographs\, lab notebooks and advertising material. Published by Sterling Signature in October 2013\, it was produced in association with the Edison Innovation Foundation\, the Charles Edison Fund and the National Park Service. Another famous innovator – Bill Gates – has written the foreword to this fresh look at Thomas Edison.\n  \n\n\nEdison and the Rise of Innovation introduces the inventor who did more than just invent the phonograph\, incandescent electric light and motion picture camera\, he translated ideas into commercial products\, creating dozens of companies to manufacture and market his inventions. The book reminds us that Edison still matters because he faced the same questions modern innovators confront today: which ideas should I develop? How do I raise money to support research? How do I motivate my team? What’s the best way to manufacture and sell my products?\n  \n\nRefreshments at 7:00pm. Program at 7:30pm. The program is co-sponsored by the Mount Tabor Historical Society and the Mount Tabor Library.\n\nPark at the post office at 26 Simpson Ave.\, Mount Tabor\, NJ and walk up the pedestrian path to the Bethel in Trinity Park. Directions www.mounttabornj.org    973-975-0001\n\n\n	Related\n
URL:https://mounttabornj.org/event/edison-and-the-rise-of-innovation/
LOCATION:The Bethel\, Trinity Park\, Mount Tabor\, NJ\, 07878\, United States
ATTACH;FMTTYPE=image/jpeg:https://mounttabornj.org/wp-content/uploads/2018/03/thomas-edison-accomplishments-header.jpg
END:VEVENT
END:VCALENDAR