BEGIN:VCALENDAR
VERSION:2.0
PRODID:-//Mount Tabor Historical Society - ECPv4.9.14//NONSGML v1.0//EN
CALSCALE:GREGORIAN
METHOD:PUBLISH
X-WR-CALNAME:Mount Tabor Historical Society
X-ORIGINAL-URL:https://mounttabornj.org
X-WR-CALDESC:Events for Mount Tabor Historical Society
BEGIN:VTIMEZONE
TZID:UTC
BEGIN:STANDARD
TZOFFSETFROM:+0000
TZOFFSETTO:+0000
TZNAME:UTC
DTSTART:20180101T000000
END:STANDARD
END:VTIMEZONE
BEGIN:VEVENT
DTSTART;TZID=UTC:20180614T190000
DTEND;TZID=UTC:20180614T210000
DTSTAMP:20260420T140003
CREATED:20180129T072620Z
LAST-MODIFIED:20180531T024153Z
UID:1481-1529002800-1529010000@mounttabornj.org
SUMMARY:Heirloom Refinishing: Making Furniture as Good as Old
DESCRIPTION:Refreshments at 7:00pm. Program at 7:30pm.\n\n\nHerb Stocknoff of Heirloom Refinishing in Rockaway\, NJ\, will share 40 years of experience in refinishing fine furniture. He will display a refinishing job in progress and dispel some “myths” of furniture refinishing including when to refinish and what to leave untouched. The word “antique’ will be defined and how veneer got a bad name explained.\n\n\nThursday March 8\, 2018 at the Bethel in Mt Tabor.  The program is co-sponsored by the Mount Tabor Historical Society and the Mount Tabor Library.  Park near the post office at 26 Simpson Ave.\, Mount Tabor\, NJ and walk up the pedestrian path to the Bethel in Trinity Park. Directions MountTaborNJ.org   or call 973-975-0001\n\n\n	Related\n
URL:https://mounttabornj.org/event/heirloom-refinishing-making-furniture-as-good-as-old/
LOCATION:The Bethel\, Trinity Park\, Mount Tabor\, NJ\, 07878\, United States
ATTACH;FMTTYPE=image/jpeg:https://mounttabornj.org/wp-content/uploads/2018/01/Furniture-Refinishing.jpg
END:VEVENT
END:VCALENDAR