BEGIN:VCALENDAR
VERSION:2.0
PRODID:-//Mount Tabor Historical Society - ECPv4.9.14//NONSGML v1.0//EN
CALSCALE:GREGORIAN
METHOD:PUBLISH
X-WR-CALNAME:Mount Tabor Historical Society
X-ORIGINAL-URL:https://mounttabornj.org
X-WR-CALDESC:Events for Mount Tabor Historical Society
BEGIN:VTIMEZONE
TZID:UTC
BEGIN:STANDARD
TZOFFSETFROM:+0000
TZOFFSETTO:+0000
TZNAME:UTC
DTSTART:20180101T000000
END:STANDARD
END:VTIMEZONE
BEGIN:VEVENT
DTSTART;VALUE=DATE:20181109
DTEND;VALUE=DATE:20181112
DTSTAMP:20260420T083905
CREATED:20181105T105559Z
LAST-MODIFIED:20181105T110200Z
UID:1572-1541721600-1541980799@mounttabornj.org
SUMMARY:Holiday Craft Fair and Cookie Walk
DESCRIPTION:Vintage collectibles\, hand-made crafts with a Victorian flair\, and a cookie walk!\nFriday\, Nov. 9\, 2018 5-8pm  *Members Only Preview Sale* Join or renew your membership to shop early!\nSaturday\, Nov. 10\, 2018 9am-4pm\nSunday\, Nov. 11\, 2018 12-3pm\nLocated in the Bethel Pavilion. \n\n\n	Related\n
URL:https://mounttabornj.org/event/holiday-craft-fair-and-cookie-walk/
LOCATION:The Bethel\, Trinity Park\, Mount Tabor\, NJ\, 07878\, United States
ATTACH;FMTTYPE=image/jpeg:https://mounttabornj.org/wp-content/uploads/2018/11/TreeBall.jpg
END:VEVENT
END:VCALENDAR