BEGIN:VCALENDAR
VERSION:2.0
PRODID:-//Mount Tabor Historical Society - ECPv4.9.14//NONSGML v1.0//EN
CALSCALE:GREGORIAN
METHOD:PUBLISH
X-WR-CALNAME:Mount Tabor Historical Society
X-ORIGINAL-URL:https://mounttabornj.org
X-WR-CALDESC:Events for Mount Tabor Historical Society
BEGIN:VTIMEZONE
TZID:UTC
BEGIN:STANDARD
TZOFFSETFROM:+0000
TZOFFSETTO:+0000
TZNAME:UTC
DTSTART:20180101T000000
END:STANDARD
END:VTIMEZONE
BEGIN:VEVENT
DTSTART;TZID=UTC:20180428T090000
DTEND;TZID=UTC:20180428T160000
DTSTAMP:20260420T185353
CREATED:20180323T024740Z
LAST-MODIFIED:20180323T024740Z
UID:1520-1524906000-1524931200@mounttabornj.org
SUMMARY:Mount Tabor Tag Sale - Attic Treasures and Trinkets
DESCRIPTION:Friday April 27 — 9am to 4pm\nSaturday April 28 — 9am to 4pm\nSunday April 29 — Noon to 4pm\nMembers and Friends of the Mount Tabor Historical Society have scoured their attics and closets to donate to the sale! You will find unusual and interesting items\, something for everyone including those helpful\, handy and that treasure you can’t live without! Hidden treasures abound.\n  \n \n  \n  \n  \n  \n  \n  \n  \n  \nLocated at the Bethel in Mount Tabor. Turn off Route 53 onto Dickerson Road or St John’s Avenue and follow the signs. Park near the Mt. Tabor post office at 26 Simpson Ave. and walk up the hill (next to the post office) to the third building on the right (look for the brown shingled octagon building). Proceeds help the Mount Tabor Historical Society support its Richardson History House and to fund programs concerning the importance of preserving the historic community. After the sale\, feel free to take a walk in Trinity Park\, circled by the oldest Victorian cottages in Mount Tabor. For information call 973-975-0001. \n\n\n	Related\n
URL:https://mounttabornj.org/event/mount-tabor-tag-sale-attic-treasures-and-trinkets-3/
LOCATION:The Bethel\, Trinity Park\, Mount Tabor\, NJ\, 07878\, United States
ATTACH;FMTTYPE=image/jpeg:https://mounttabornj.org/wp-content/uploads/2018/03/TagSale20174.jpg
END:VEVENT
END:VCALENDAR